BEGIN:VCALENDAR
VERSION:2.0
PRODID:-//VTSE - ECPv6.15.20//NONSGML v1.0//EN
CALSCALE:GREGORIAN
METHOD:PUBLISH
X-ORIGINAL-URL:https://www.vtse.hu
X-WR-CALDESC:Események VTSE
REFRESH-INTERVAL;VALUE=DURATION:PT1H
X-Robots-Tag:noindex
X-PUBLISHED-TTL:PT1H
BEGIN:VTIMEZONE
TZID:Europe/Helsinki
BEGIN:DAYLIGHT
TZOFFSETFROM:+0200
TZOFFSETTO:+0300
TZNAME:EEST
DTSTART:20210328T010000
END:DAYLIGHT
BEGIN:STANDARD
TZOFFSETFROM:+0300
TZOFFSETTO:+0200
TZNAME:EET
DTSTART:20211031T010000
END:STANDARD
BEGIN:DAYLIGHT
TZOFFSETFROM:+0200
TZOFFSETTO:+0300
TZNAME:EEST
DTSTART:20220327T010000
END:DAYLIGHT
BEGIN:STANDARD
TZOFFSETFROM:+0300
TZOFFSETTO:+0200
TZNAME:EET
DTSTART:20221030T010000
END:STANDARD
BEGIN:DAYLIGHT
TZOFFSETFROM:+0200
TZOFFSETTO:+0300
TZNAME:EEST
DTSTART:20230326T010000
END:DAYLIGHT
BEGIN:STANDARD
TZOFFSETFROM:+0300
TZOFFSETTO:+0200
TZNAME:EET
DTSTART:20231029T010000
END:STANDARD
END:VTIMEZONE
BEGIN:VTIMEZONE
TZID:UTC
BEGIN:STANDARD
TZOFFSETFROM:+0000
TZOFFSETTO:+0000
TZNAME:UTC
DTSTART:20210101T000000
END:STANDARD
END:VTIMEZONE
BEGIN:VEVENT
DTSTART;TZID=Europe/Helsinki:20221008T100000
DTEND;TZID=Europe/Helsinki:20221008T140000
DTSTAMP:20260419T151743
CREATED:20220916T084136Z
LAST-MODIFIED:20220916T084136Z
UID:399-1665223200-1665237600@www.vtse.hu
SUMMARY:Fejér Megyei Kispályás Bajnokság “ÉSZAKI” csoport 3. forduló – Kispályás Labdarúgó Szakosztály
DESCRIPTION:
URL:https://www.vtse.hu/event/fejer-megyei-kispalyas-bajnoksag-eszaki-csoport-3-fordulo-kispalyas-labdarugo-szakosztaly/
LOCATION:Bicske
END:VEVENT
BEGIN:VEVENT
DTSTART;TZID=UTC:20221008T080000
DTEND;TZID=UTC:20221008T170000
DTSTAMP:20260419T151743
CREATED:20220804T061420Z
LAST-MODIFIED:20220804T061420Z
UID:354-1665216000-1665248400@www.vtse.hu
SUMMARY:Utánpótlás Magyar Bajnokság - Kyokushin Karate Szakosztály
DESCRIPTION:
URL:https://www.vtse.hu/event/utanpotlas-magyar-bajnoksag-kyokushin-karate-szakosztaly/
END:VEVENT
BEGIN:VEVENT
DTSTART;TZID=Europe/Helsinki:20221001T100000
DTEND;TZID=Europe/Helsinki:20221001T140000
DTSTAMP:20260419T151743
CREATED:20220916T084057Z
LAST-MODIFIED:20220916T084057Z
UID:396-1664618400-1664632800@www.vtse.hu
SUMMARY:Fejér Megyei Kispályás Bajnokság “ÉSZAKI” csoport 2. forduló – Kispályás Labdarúgó Szakosztály
DESCRIPTION:
URL:https://www.vtse.hu/event/fejer-megyei-kispalyas-bajnoksag-eszaki-csoport-2-fordulo-kispalyas-labdarugo-szakosztaly/
LOCATION:Óbarok
END:VEVENT
BEGIN:VEVENT
DTSTART;TZID=Europe/Helsinki:20221001T080000
DTEND;TZID=Europe/Helsinki:20221001T170000
DTSTAMP:20260419T151743
CREATED:20220804T061325Z
LAST-MODIFIED:20220804T061325Z
UID:352-1664611200-1664643600@www.vtse.hu
SUMMARY:Szlovák Open - Kyokushin Karate Szakosztály
DESCRIPTION:
URL:https://www.vtse.hu/event/szlovak-open-kyokushin-karate-szakosztaly/
LOCATION:Dunaszerdahely\, SK
END:VEVENT
BEGIN:VEVENT
DTSTART;TZID=Europe/Helsinki:20221001T080000
DTEND;TZID=Europe/Helsinki:20221001T170000
DTSTAMP:20260419T151743
CREATED:20220804T061211Z
LAST-MODIFIED:20220804T061211Z
UID:349-1664611200-1664643600@www.vtse.hu
SUMMARY:The 44th British Open & The Cup of Europe 2022 (IFK) - Kyokushin Karate Szakosztály
DESCRIPTION:
URL:https://www.vtse.hu/event/the-44th-british-open-the-cup-of-europe-2022-ifk-kyokushin-karate-szakosztaly/
LOCATION:Crawley\, Great Britain\, K2 Leisure Centre\, Crawley\, Egyesült Királyság
END:VEVENT
BEGIN:VEVENT
DTSTART;TZID=Europe/Helsinki:20220924T100000
DTEND;TZID=Europe/Helsinki:20220924T140000
DTSTAMP:20260419T151743
CREATED:20220916T083949Z
LAST-MODIFIED:20220916T083949Z
UID:393-1664013600-1664028000@www.vtse.hu
SUMMARY:Fejér Megyei Kispályás Bajnokság “ÉSZAKI” csoport 1. forduló – Kispályás Labdarúgó Szakosztály
DESCRIPTION:
URL:https://www.vtse.hu/event/fejer-megyei-kispalyas-bajnoksag-eszaki-csoport-1-fordulo-kispalyas-labdarugo-szakosztaly/
LOCATION:Balinka-Mecsér
END:VEVENT
BEGIN:VEVENT
DTSTART;TZID=Europe/Helsinki:20220917T100000
DTEND;TZID=Europe/Helsinki:20220917T180000
DTSTAMP:20260419T151743
CREATED:20220905T115910Z
LAST-MODIFIED:20220905T115910Z
UID:380-1663408800-1663437600@www.vtse.hu
SUMMARY:Gyöngyvirágtól lombullásig - őszi túra - Természetjáró szakosztály
DESCRIPTION:
URL:https://www.vtse.hu/event/gyongyviragtol-lombullasig-oszi-tura-termeszetjaro-szakosztaly/
LOCATION:Gánt\, Gánt\, Hungary
END:VEVENT
BEGIN:VEVENT
DTSTART;TZID=Europe/Helsinki:20220909T080000
DTEND;TZID=Europe/Helsinki:20220910T180000
DTSTAMP:20260419T151743
CREATED:20220318T174753Z
LAST-MODIFIED:20220804T060548Z
UID:279-1662710400-1662832800@www.vtse.hu
SUMMARY:Szolnok Kupa - Kyokushin Karate Szakosztály
DESCRIPTION:
URL:https://www.vtse.hu/event/szolnok-kupa-kyokushin-karate-szakosztaly/
LOCATION:Szolnok\, Szolnok\, Hungary
END:VEVENT
BEGIN:VEVENT
DTSTART;VALUE=DATE:20220902
DTEND;VALUE=DATE:20220905
DTSTAMP:20260419T151743
CREATED:20220318T174418Z
LAST-MODIFIED:20220318T174435Z
UID:277-1662076800-1662335999@www.vtse.hu
SUMMARY:Alapozó edzőtábor - Kyokushin Karate Szakosztály
DESCRIPTION:
URL:https://www.vtse.hu/event/alapozo-edzotabor-kyokushin-karate-szakosztaly/
LOCATION:Gánt\, Gánt\, Hungary
END:VEVENT
BEGIN:VEVENT
DTSTART;TZID=UTC:20220830T180000
DTEND;TZID=UTC:20220830T190000
DTSTAMP:20260419T151743
CREATED:20220808T080350Z
LAST-MODIFIED:20220808T080350Z
UID:369-1661882400-1661886000@www.vtse.hu
SUMMARY:Játékos\, nyílt\, nyári karate edzés minden gyermeknek és ifinek - Kyokushin Karate Szakosztály
DESCRIPTION:
URL:https://www.vtse.hu/event/jatekos-nyilt-nyari-karate-edzes-minden-gyermeknek-es-ifinek-kyokushin-karate-szakosztaly-3/
LOCATION:Székesfehérvár\, Székesfehérvár\, Hungary
END:VEVENT
BEGIN:VEVENT
DTSTART;TZID=UTC:20220826T170000
DTEND;TZID=UTC:20220826T190000
DTSTAMP:20260419T151743
CREATED:20220429T094727Z
LAST-MODIFIED:20220429T094727Z
UID:315-1661533200-1661540400@www.vtse.hu
SUMMARY:Dojo nagytakarítás - Kyokushin Karate Szakosztály
DESCRIPTION:A dojo éves nagytakarítása
URL:https://www.vtse.hu/event/dojo-nagytakaritas-kyokushin-karate-szakosztaly/
LOCATION:Székesfehérvár\, Székesfehérvár\, Hungary
END:VEVENT
BEGIN:VEVENT
DTSTART;TZID=UTC:20220823T180000
DTEND;TZID=UTC:20220823T190000
DTSTAMP:20260419T151743
CREATED:20220808T080249Z
LAST-MODIFIED:20220808T080249Z
UID:367-1661277600-1661281200@www.vtse.hu
SUMMARY:Játékos\, nyílt\, nyári karate edzés minden gyermeknek és ifinek - Kyokushin Karate Szakosztály
DESCRIPTION:
URL:https://www.vtse.hu/event/jatekos-nyilt-nyari-karate-edzes-minden-gyermeknek-es-ifinek-kyokushin-karate-szakosztaly-2/
LOCATION:Székesfehérvár\, Székesfehérvár\, Hungary
END:VEVENT
BEGIN:VEVENT
DTSTART;TZID=Europe/Helsinki:20220816T180000
DTEND;TZID=Europe/Helsinki:20220816T190000
DTSTAMP:20260419T151743
CREATED:20220808T080211Z
LAST-MODIFIED:20220808T080211Z
UID:365-1660672800-1660676400@www.vtse.hu
SUMMARY:Játékos\, nyílt\, nyári karate edzés minden gyermeknek és ifinek - Kyokushin Karate Szakosztály
DESCRIPTION:
URL:https://www.vtse.hu/event/jatekos-nyilt-nyari-karate-edzes-minden-gyermeknek-es-ifinek-kyokushin-karate-szakosztaly/
LOCATION:Székesfehérvár\, Székesfehérvár\, Hungary
END:VEVENT
BEGIN:VEVENT
DTSTART;TZID=Europe/Helsinki:20220809T180000
DTEND;TZID=Europe/Helsinki:20220809T190000
DTSTAMP:20260419T151743
CREATED:20220804T060228Z
LAST-MODIFIED:20220808T080123Z
UID:343-1660068000-1660071600@www.vtse.hu
SUMMARY:Játékos\, nyílt\, nyári karate edzés minden gyermeknek és ifinek - Kyokushin Karate Szakosztály
DESCRIPTION:
URL:https://www.vtse.hu/event/jatekos-karate-edzes-minden-korosztalynak-kyokushin-karate-szakosztaly/
LOCATION:Székesfehérvár\, Székesfehérvár\, Hungary
END:VEVENT
BEGIN:VEVENT
DTSTART;TZID=Europe/Helsinki:20220806T140000
DTEND;TZID=Europe/Helsinki:20220807T100000
DTSTAMP:20260419T151743
CREATED:20220804T060047Z
LAST-MODIFIED:20220804T060255Z
UID:341-1659794400-1659866400@www.vtse.hu
SUMMARY:Csapatösszetartás - Kyokushin Karate Szakosztály
DESCRIPTION:
URL:https://www.vtse.hu/event/csapatosszetartas-kyokushin-karate-szakosztaly/
LOCATION:Gánt-Gránás
END:VEVENT
BEGIN:VEVENT
DTSTART;VALUE=DATE:20220621
DTEND;VALUE=DATE:20220627
DTSTAMP:20260419T151743
CREATED:20220318T174135Z
LAST-MODIFIED:20220318T174135Z
UID:275-1655769600-1656287999@www.vtse.hu
SUMMARY:XIII. Nyári tábor - Kyokushin Karate Szakosztály
DESCRIPTION:
URL:https://www.vtse.hu/event/xiii-nyari-tabor-kyokushin-karate-szakosztaly/
LOCATION:Gánt\, Gánt\, Hungary
END:VEVENT
BEGIN:VEVENT
DTSTART;VALUE=DATE:20220619
DTEND;VALUE=DATE:20220621
DTSTAMP:20260419T151743
CREATED:20220318T172248Z
LAST-MODIFIED:20220318T173011Z
UID:266-1655596800-1655769599@www.vtse.hu
SUMMARY:Sün Tábor - Kyokushin Karate Szakosztály
DESCRIPTION:
URL:https://www.vtse.hu/event/sun-tabor-kyokushin-karate-szakosztaly/
LOCATION:Gánt\, Gánt\, Hungary
END:VEVENT
BEGIN:VEVENT
DTSTART;TZID=Europe/Helsinki:20220604T090000
DTEND;TZID=Europe/Helsinki:20220604T140000
DTSTAMP:20260419T151743
CREATED:20220318T170831Z
LAST-MODIFIED:20220519T125026Z
UID:256-1654333200-1654351200@www.vtse.hu
SUMMARY:Fejér Megyei Kispályás Bajnokság “C” csoport 8. forduló – Kispályás Labdarúgó Szakosztály
DESCRIPTION:
URL:https://www.vtse.hu/event/fejer-megyei-kispalyas-bajnoksag-c-csoport-8-fordulo-kispalyas-labdarugo-szakosztaly/
LOCATION:Sukoró
END:VEVENT
BEGIN:VEVENT
DTSTART;TZID=Europe/Helsinki:20220604T080000
DTEND;TZID=Europe/Helsinki:20220604T180000
DTSTAMP:20260419T151743
CREATED:20220318T170958Z
LAST-MODIFIED:20220318T171157Z
UID:258-1654329600-1654365600@www.vtse.hu
SUMMARY:Slovakian Open - Kyokushin Karate Szakosztály
DESCRIPTION:
URL:https://www.vtse.hu/event/slovakian-open-kyokushin-karate-szakosztaly/
LOCATION:Dunaszerdahely\, SK
END:VEVENT
BEGIN:VEVENT
DTSTART;VALUE=DATE:20220604
DTEND;VALUE=DATE:20220606
DTSTAMP:20260419T151743
CREATED:20220318T171346Z
LAST-MODIFIED:20220318T171346Z
UID:262-1654300800-1654473599@www.vtse.hu
SUMMARY:6. IFK Világbajnokság - Kyokushin Karate Szakosztály
DESCRIPTION:
URL:https://www.vtse.hu/event/6-ifk-vilagbajnoksag-kyokushin-karate-szakosztaly/
LOCATION:Valencia\, SP
END:VEVENT
BEGIN:VEVENT
DTSTART;TZID=Europe/Helsinki:20220528T100000
DTEND;TZID=Europe/Helsinki:20220529T100000
DTSTAMP:20260419T151743
CREATED:20220429T094330Z
LAST-MODIFIED:20220429T094330Z
UID:312-1653732000-1653818400@www.vtse.hu
SUMMARY:PPP - 2022 - Csalitos - Kyokushin Karate Szakosztály
DESCRIPTION:Pünkösdi Pacal Parti és sátrazás – a felnőtt Sünseregnek
URL:https://www.vtse.hu/event/ppp-2022-csalitos-kyokushin-karate-szakosztaly/
LOCATION:Gánt-Gránás
END:VEVENT
BEGIN:VEVENT
DTSTART;TZID=Europe/Helsinki:20220521T080000
DTEND;TZID=Europe/Helsinki:20220521T180000
DTSTAMP:20260419T151743
CREATED:20220319T123541Z
LAST-MODIFIED:20220419T072002Z
UID:292-1653120000-1653156000@www.vtse.hu
SUMMARY:Pécel Kupa - Kyokushin Karate Szakosztály
DESCRIPTION:2119 Pécel\, Szemere Pál Ált Isk.
URL:https://www.vtse.hu/event/pecel-kupa-kyokushin-karate-szakosztaly/
LOCATION:Pécel
END:VEVENT
BEGIN:VEVENT
DTSTART;TZID=Europe/Helsinki:20220514T090000
DTEND;TZID=Europe/Helsinki:20220514T140000
DTSTAMP:20260419T151743
CREATED:20220318T170707Z
LAST-MODIFIED:20220318T170707Z
UID:253-1652518800-1652536800@www.vtse.hu
SUMMARY:Fejér Megyei Kispályás Bajnokság “C” csoport 7. forduló – Kispályás Labdarúgó Szakosztály
DESCRIPTION:
URL:https://www.vtse.hu/event/fejer-megyei-kispalyas-bajnoksag-c-csoport-7-fordulo-kispalyas-labdarugo-szakosztaly/
LOCATION:Bicske
END:VEVENT
BEGIN:VEVENT
DTSTART;TZID=Europe/Helsinki:20220514T080000
DTEND;TZID=Europe/Helsinki:20220514T180000
DTSTAMP:20260419T151743
CREATED:20220318T152104Z
LAST-MODIFIED:20220318T152104Z
UID:249-1652515200-1652551200@www.vtse.hu
SUMMARY:Diákolimpia döntő - Kyokushin Karate Szakosztály
DESCRIPTION:
URL:https://www.vtse.hu/event/diakolimpia-donto-kyokushin-karate-szakosztaly/
LOCATION:Debrecen
END:VEVENT
BEGIN:VEVENT
DTSTART;TZID=Europe/Helsinki:20220508T080000
DTEND;TZID=Europe/Helsinki:20220508T170000
DTSTAMP:20260419T151743
CREATED:20220429T094119Z
LAST-MODIFIED:20220429T094357Z
UID:310-1651996800-1652029200@www.vtse.hu
SUMMARY:Állatkerti kirándulás Pesten - Kyokushin Karate Szakosztály
DESCRIPTION:Harcisünök látogatása az állatkertben – családi program
URL:https://www.vtse.hu/event/allatkerti-kirandulas-pesten/
LOCATION:Budapest\, Budapest\, Hungary
END:VEVENT
BEGIN:VEVENT
DTSTART;TZID=UTC:20220501T080000
DTEND;TZID=UTC:20220501T170000
DTSTAMP:20260419T151743
CREATED:20220406T060846Z
LAST-MODIFIED:20220406T060846Z
UID:305-1651392000-1651424400@www.vtse.hu
SUMMARY:Sportmajális 2022
DESCRIPTION:A Székesfehérvári Közösségi és Kulturális Központ idén tizenegyedik alkalommal rendezi meg május elsején a Sportmajálist. \nHelyszín: MOL Aréna Sóstó környéke \nFelvonulás a Petőfi-szobortól a MOL Aréna Sóstóig
URL:https://www.vtse.hu/event/sportmajalis-2022/
LOCATION:Székesfehérvár\, Székesfehérvár\, Hungary
END:VEVENT
BEGIN:VEVENT
DTSTART;TZID=Europe/Helsinki:20220430T090000
DTEND;TZID=Europe/Helsinki:20220430T140000
DTSTAMP:20260419T151743
CREATED:20220318T145918Z
LAST-MODIFIED:20220408T102723Z
UID:232-1651309200-1651327200@www.vtse.hu
SUMMARY:Fejér Megyei Kispályás Bajnokság "C" csoport 5. forduló - Kispályás Labdarúgó Szakosztály
DESCRIPTION:
URL:https://www.vtse.hu/event/fejer-megyei-kispalyas-bajnoksag-c-csoport-5-fordulo-kispalyas-labdarugo-szakosztaly/
LOCATION:Sukoró
END:VEVENT
BEGIN:VEVENT
DTSTART;TZID=Europe/Helsinki:20220423T090000
DTEND;TZID=Europe/Helsinki:20220423T140000
DTSTAMP:20260419T151743
CREATED:20220318T150644Z
LAST-MODIFIED:20220318T150644Z
UID:240-1650704400-1650722400@www.vtse.hu
SUMMARY:Fejér Megyei Kispályás Bajnokság “C” csoport 6. forduló – Kispályás Labdarúgó Szakosztály
DESCRIPTION:
URL:https://www.vtse.hu/event/fejer-megyei-kispalyas-bajnoksag-c-csoport-6-fordulo-kispalyas-labdarugo-szakosztaly/
LOCATION:Sukoró
END:VEVENT
BEGIN:VEVENT
DTSTART;TZID=Europe/Helsinki:20220423T080000
DTEND;TZID=Europe/Helsinki:20220423T180000
DTSTAMP:20260419T151743
CREATED:20220318T151226Z
LAST-MODIFIED:20220419T071931Z
UID:242-1650700800-1650736800@www.vtse.hu
SUMMARY:Nyúl Kupa - Kyokushin Karate Szakosztály
DESCRIPTION:Helyszín: Gregor József Általános Iskola tornaterme\, Budapest 17.kerület – Hősök tere \nÉrkezés: 09:30 egyénileg
URL:https://www.vtse.hu/event/nyul-kupa-kyokushin-szakosztaly/
LOCATION:Budapest\, Budapest\, Hungary
END:VEVENT
BEGIN:VEVENT
DTSTART;TZID=Europe/Helsinki:20220422T080000
DTEND;TZID=Europe/Helsinki:20220424T170000
DTSTAMP:20260419T151743
CREATED:20220319T123331Z
LAST-MODIFIED:20220319T123331Z
UID:289-1650614400-1650819600@www.vtse.hu
SUMMARY:Y Akadémia edzőtábor - Kyokushin Karate Szakosztály
DESCRIPTION:
URL:https://www.vtse.hu/event/y-akademia-edzotabor-kyokushin-karate-szakosztaly/
LOCATION:Jászberény
END:VEVENT
END:VCALENDAR