BEGIN:VCALENDAR
VERSION:2.0
PRODID:-//VTSE - ECPv6.15.20//NONSGML v1.0//EN
CALSCALE:GREGORIAN
METHOD:PUBLISH
X-WR-CALNAME:VTSE
X-ORIGINAL-URL:https://www.vtse.hu
X-WR-CALDESC:Események VTSE
REFRESH-INTERVAL;VALUE=DURATION:PT1H
X-Robots-Tag:noindex
X-PUBLISHED-TTL:PT1H
BEGIN:VTIMEZONE
TZID:Europe/Helsinki
BEGIN:DAYLIGHT
TZOFFSETFROM:+0200
TZOFFSETTO:+0300
TZNAME:EEST
DTSTART:20210328T010000
END:DAYLIGHT
BEGIN:STANDARD
TZOFFSETFROM:+0300
TZOFFSETTO:+0200
TZNAME:EET
DTSTART:20211031T010000
END:STANDARD
BEGIN:DAYLIGHT
TZOFFSETFROM:+0200
TZOFFSETTO:+0300
TZNAME:EEST
DTSTART:20220327T010000
END:DAYLIGHT
BEGIN:STANDARD
TZOFFSETFROM:+0300
TZOFFSETTO:+0200
TZNAME:EET
DTSTART:20221030T010000
END:STANDARD
BEGIN:DAYLIGHT
TZOFFSETFROM:+0200
TZOFFSETTO:+0300
TZNAME:EEST
DTSTART:20230326T010000
END:DAYLIGHT
BEGIN:STANDARD
TZOFFSETFROM:+0300
TZOFFSETTO:+0200
TZNAME:EET
DTSTART:20231029T010000
END:STANDARD
END:VTIMEZONE
BEGIN:VTIMEZONE
TZID:UTC
BEGIN:STANDARD
TZOFFSETFROM:+0000
TZOFFSETTO:+0000
TZNAME:UTC
DTSTART:20210101T000000
END:STANDARD
END:VTIMEZONE
BEGIN:VEVENT
DTSTART;TZID=Europe/Helsinki:20220508T080000
DTEND;TZID=Europe/Helsinki:20220508T170000
DTSTAMP:20260419T190230
CREATED:20220429T094119Z
LAST-MODIFIED:20220429T094357Z
UID:310-1651996800-1652029200@www.vtse.hu
SUMMARY:Állatkerti kirándulás Pesten - Kyokushin Karate Szakosztály
DESCRIPTION:Harcisünök látogatása az állatkertben – családi program
URL:https://www.vtse.hu/event/allatkerti-kirandulas-pesten/
LOCATION:Budapest\, Budapest\, Hungary
END:VEVENT
BEGIN:VEVENT
DTSTART;TZID=UTC:20220501T080000
DTEND;TZID=UTC:20220501T170000
DTSTAMP:20260419T190230
CREATED:20220406T060846Z
LAST-MODIFIED:20220406T060846Z
UID:305-1651392000-1651424400@www.vtse.hu
SUMMARY:Sportmajális 2022
DESCRIPTION:A Székesfehérvári Közösségi és Kulturális Központ idén tizenegyedik alkalommal rendezi meg május elsején a Sportmajálist. \nHelyszín: MOL Aréna Sóstó környéke \nFelvonulás a Petőfi-szobortól a MOL Aréna Sóstóig
URL:https://www.vtse.hu/event/sportmajalis-2022/
LOCATION:Székesfehérvár\, Székesfehérvár\, Hungary
END:VEVENT
BEGIN:VEVENT
DTSTART;TZID=Europe/Helsinki:20220430T090000
DTEND;TZID=Europe/Helsinki:20220430T140000
DTSTAMP:20260419T190230
CREATED:20220318T145918Z
LAST-MODIFIED:20220408T102723Z
UID:232-1651309200-1651327200@www.vtse.hu
SUMMARY:Fejér Megyei Kispályás Bajnokság "C" csoport 5. forduló - Kispályás Labdarúgó Szakosztály
DESCRIPTION:
URL:https://www.vtse.hu/event/fejer-megyei-kispalyas-bajnoksag-c-csoport-5-fordulo-kispalyas-labdarugo-szakosztaly/
LOCATION:Sukoró
END:VEVENT
BEGIN:VEVENT
DTSTART;TZID=Europe/Helsinki:20220423T090000
DTEND;TZID=Europe/Helsinki:20220423T140000
DTSTAMP:20260419T190230
CREATED:20220318T150644Z
LAST-MODIFIED:20220318T150644Z
UID:240-1650704400-1650722400@www.vtse.hu
SUMMARY:Fejér Megyei Kispályás Bajnokság “C” csoport 6. forduló – Kispályás Labdarúgó Szakosztály
DESCRIPTION:
URL:https://www.vtse.hu/event/fejer-megyei-kispalyas-bajnoksag-c-csoport-6-fordulo-kispalyas-labdarugo-szakosztaly/
LOCATION:Sukoró
END:VEVENT
BEGIN:VEVENT
DTSTART;TZID=Europe/Helsinki:20220423T080000
DTEND;TZID=Europe/Helsinki:20220423T180000
DTSTAMP:20260419T190230
CREATED:20220318T151226Z
LAST-MODIFIED:20220419T071931Z
UID:242-1650700800-1650736800@www.vtse.hu
SUMMARY:Nyúl Kupa - Kyokushin Karate Szakosztály
DESCRIPTION:Helyszín: Gregor József Általános Iskola tornaterme\, Budapest 17.kerület – Hősök tere \nÉrkezés: 09:30 egyénileg
URL:https://www.vtse.hu/event/nyul-kupa-kyokushin-szakosztaly/
LOCATION:Budapest\, Budapest\, Hungary
END:VEVENT
BEGIN:VEVENT
DTSTART;TZID=Europe/Helsinki:20220422T080000
DTEND;TZID=Europe/Helsinki:20220424T170000
DTSTAMP:20260419T190230
CREATED:20220319T123331Z
LAST-MODIFIED:20220319T123331Z
UID:289-1650614400-1650819600@www.vtse.hu
SUMMARY:Y Akadémia edzőtábor - Kyokushin Karate Szakosztály
DESCRIPTION:
URL:https://www.vtse.hu/event/y-akademia-edzotabor-kyokushin-karate-szakosztaly/
LOCATION:Jászberény
END:VEVENT
BEGIN:VEVENT
DTSTART;TZID=Europe/Helsinki:20220409T100000
DTEND;TZID=Europe/Helsinki:20220409T170000
DTSTAMP:20260419T190230
CREATED:20220318T150356Z
LAST-MODIFIED:20220318T150356Z
UID:236-1649498400-1649523600@www.vtse.hu
SUMMARY:Csalitos tavaszi nagytakarítás - Kyokushin Karate Szakosztály
DESCRIPTION:
URL:https://www.vtse.hu/event/csalitos-tavaszi-nagytakaritas-kyokushin-karate-szakosztaly/
LOCATION:Gánt-Gránás
END:VEVENT
BEGIN:VEVENT
DTSTART;TZID=Europe/Helsinki:20220326T140000
DTEND;TZID=Europe/Helsinki:20220326T170000
DTSTAMP:20260419T190230
CREATED:20220318T145118Z
LAST-MODIFIED:20220323T054441Z
UID:225-1648303200-1648314000@www.vtse.hu
SUMMARY:Medvehagyma túra - Természetjáró szakosztály
DESCRIPTION:Találkozó 14 órakor a várpalotai Penny parkolóban ( https://goo.gl/maps/x5KKvG94QJ9c1ctT9 )
URL:https://www.vtse.hu/event/medvehagyma-tura-termeszetjaro-szakosztaly/
LOCATION:Várpalota környéke
END:VEVENT
END:VCALENDAR